BEGIN:VCALENDAR
VERSION:2.0
PRODID:hinto.net
X-PUBLISHED-TTL:P1W
BEGIN:VEVENT
UID:hinto.net-event_show-6925692
DTSTART:20260518T183000
SEQUENCE:0
CREATED:20260419T052312
LAST-MODIFIED:20260419T052312
TRANSP:OPAQUE
DTEND:20260518T220000
LOCATION:Samariter Zürich-Hard
SUMMARY:BLS-AED-SRC Komplett
CLASS:PUBLIC
DESCRIPTION:
ORGANIZER:
DTSTAMP:20260421T044513
ATTACH:https://www.hinto.ch/de/events/bls-aed-src-komplett-18-05-2026-1830-samariter-zuerich-hard-zuerich-e2847644-20.html
END:VEVENT
END:VCALENDAR
