BEGIN:VCALENDAR
VERSION:2.0
PRODID:hinto.net
X-PUBLISHED-TTL:P1W
BEGIN:VEVENT
UID:hinto.net-event_show-6930188
DTSTART:20260519T181500
SEQUENCE:0
CREATED:20260420T222630
LAST-MODIFIED:20260420T222630
TRANSP:OPAQUE
DTEND:20260519T213000
LOCATION:Samariterverein Münsingen
SUMMARY:BLS-AED-SRC Komplett
CLASS:PUBLIC
DESCRIPTION:
ORGANIZER:
DTSTAMP:20260421T090644
ATTACH:https://www.hinto.ch/de/events/bls-aed-src-komplett-19-05-2026-1815-samariterverein-muensingen-muensingen-e2851947-20.html
END:VEVENT
END:VCALENDAR
