BEGIN:VCALENDAR
VERSION:2.0
PRODID:hinto.net
X-PUBLISHED-TTL:P1W
BEGIN:VEVENT
UID:hinto.net-event_show-6746325
DTSTART:20260426T180000
SEQUENCE:0
CREATED:20260224T081617
LAST-MODIFIED:20260224T081617
TRANSP:OPAQUE
DTEND:20260426T203000
LOCATION:Theater Uri
SUMMARY:Boxopera: Carmen
CLASS:PUBLIC
DESCRIPTION:
ORGANIZER:
DTSTAMP:20260419T210246
ATTACH:https://www.hinto.ch/de/events/boxopera-carmen-26-04-2026-1800-theater-uri-altdorf-ur-e2705131-20.html
END:VEVENT
END:VCALENDAR
