BEGIN:VCALENDAR
VERSION:2.0
PRODID:hinto.net
X-PUBLISHED-TTL:P1W
BEGIN:VEVENT
UID:hinto.net-event_show-6602097
DTSTART:20260802T100500
SEQUENCE:0
CREATED:20260107T112111
LAST-MODIFIED:20260107T112111
TRANSP:OPAQUE
DTEND:20260802T122500
LOCATION:Schiffsteg Bürkliplatz
SUMMARY:Brunch-Schiff
CLASS:PUBLIC
DESCRIPTION:
ORGANIZER:
DTSTAMP:20260421T133018
ATTACH:https://www.hinto.ch/de/events/brunch-schiff-02-08-2026-1005-schiffsteg-buerkliplatz-zuerich-e2368836-20.html
END:VEVENT
END:VCALENDAR
