BEGIN:VCALENDAR
VERSION:2.0
PRODID:hinto.net
X-PUBLISHED-TTL:P1W
BEGIN:VEVENT
UID:hinto.net-event_show-6466784
DTSTART:20260505T200000
SEQUENCE:0
CREATED:20251123T041028
LAST-MODIFIED:20251123T041028
TRANSP:OPAQUE

LOCATION:Theater Winkelwiese
SUMMARY:Campobello
CLASS:PUBLIC
DESCRIPTION:
ORGANIZER:
DTSTAMP:20260425T022658
ATTACH:https://www.hinto.ch/de/events/campobello-05-05-2026-2000-theater-winkelwiese-zuerich-e2463450-20.html
END:VEVENT
END:VCALENDAR
