BEGIN:VCALENDAR
VERSION:2.0
PRODID:hinto.net
X-PUBLISHED-TTL:P1W
BEGIN:VEVENT
UID:hinto.net-event_show-6815134
DTSTART:20260814T180000
SEQUENCE:0
CREATED:20260314T140013
LAST-MODIFIED:20260314T140013
TRANSP:OPAQUE
DTEND:20260814T000000
LOCATION:Drehrestaurant Rondorama
SUMMARY:Candle Light Dinner auf dem Stanserhorn
CLASS:PUBLIC
DESCRIPTION:
ORGANIZER:
DTSTAMP:20260424T053348
ATTACH:https://www.hinto.ch/de/events/candle-light-dinner-auf-dem-stanserhorn-14-08-2026-1800-drehrestaurant-rondorama-stans-e2753221-20.html
END:VEVENT
END:VCALENDAR
