BEGIN:VCALENDAR
VERSION:2.0
PRODID:hinto.net
X-PUBLISHED-TTL:P1W
BEGIN:VEVENT
UID:hinto.net-event_show-6817947
DTSTART:20260513T123000
SEQUENCE:0
CREATED:20260315T035233
LAST-MODIFIED:20260315T035233
TRANSP:OPAQUE
DTEND:20260513T130000
LOCATION:Fondation Beyeler
SUMMARY:Cezanne: Werkgespräch
CLASS:PUBLIC
DESCRIPTION:
ORGANIZER:
DTSTAMP:20260424T143939
ATTACH:https://www.hinto.ch/de/events/cezanne-werkgespraech-13-05-2026-1230-fondation-beyeler-riehen-e2600975-20.html
END:VEVENT
END:VCALENDAR
