BEGIN:VCALENDAR
VERSION:2.0
PRODID:hinto.net
X-PUBLISHED-TTL:P1W
BEGIN:VEVENT
UID:hinto.net-event_show-6785636
DTSTART:20260423T200000
SEQUENCE:0
CREATED:20260309T134201
LAST-MODIFIED:20260309T134201
TRANSP:OPAQUE
DTEND:20260423T230000
LOCATION:BeJazz Club
SUMMARY:Chrut u Rüebe
CLASS:PUBLIC
DESCRIPTION:
ORGANIZER:
DTSTAMP:20260421T063158
ATTACH:https://www.hinto.ch/de/events/chrut-u-rueebe-23-04-2026-2000-bejazz-club-liebefeld-e2740088-20.html
END:VEVENT
END:VCALENDAR
