BEGIN:VCALENDAR
VERSION:2.0
PRODID:hinto.net
X-PUBLISHED-TTL:P1W
BEGIN:VEVENT
UID:hinto.net-event_show-6893898
DTSTART:20260510T133000
SEQUENCE:0
CREATED:20260409T055912
LAST-MODIFIED:20260409T055912
TRANSP:OPAQUE
DTEND:20260510T140500
LOCATION:Kaserne Basel, Rossstall
SUMMARY:Cie Rhizome
CLASS:PUBLIC
DESCRIPTION:
ORGANIZER:
DTSTAMP:20260421T032817
ATTACH:https://www.hinto.ch/de/events/cie-rhizome-10-05-2026-1330-kaserne-basel-rossstall-basel-e2819810-20.html
END:VEVENT
END:VCALENDAR
