BEGIN:VCALENDAR
VERSION:2.0
PRODID:hinto.net
X-PUBLISHED-TTL:P1W
BEGIN:VEVENT
UID:hinto.net-event_show-6847123
DTSTART:20260920T143000
SEQUENCE:0
CREATED:20260324T123849
LAST-MODIFIED:20260324T123849
TRANSP:OPAQUE
DTEND:20260920T000000
LOCATION:
SUMMARY:Circus Knie
CLASS:PUBLIC
DESCRIPTION:
ORGANIZER:
DTSTAMP:20260421T002610
ATTACH:https://www.hinto.ch/de/events/circus-knie-20-09-2026-1430-nyon-e2780260-20.html
END:VEVENT
END:VCALENDAR
