BEGIN:VCALENDAR
VERSION:2.0
PRODID:hinto.net
X-PUBLISHED-TTL:P1W
BEGIN:VEVENT
UID:hinto.net-event_show-6867156
DTSTART:20260522T200000
SEQUENCE:0
CREATED:20260331T074150
LAST-MODIFIED:20260331T074150
TRANSP:OPAQUE
DTEND:20260522T220000
LOCATION:Auer & Co
SUMMARY:Comedy Kiss Showcases
CLASS:PUBLIC
DESCRIPTION:
ORGANIZER:
DTSTAMP:20260420T215753
ATTACH:https://www.hinto.ch/de/events/comedy-kiss-showcases-22-05-2026-2000-auer-co-zuerich-e2797142-20.html
END:VEVENT
END:VCALENDAR
