BEGIN:VCALENDAR
VERSION:2.0
PRODID:hinto.net
X-PUBLISHED-TTL:P1W
BEGIN:VEVENT
UID:hinto.net-event_show-6484871
DTSTART:20260613T193000
SEQUENCE:0
CREATED:20251128T184838
LAST-MODIFIED:20251128T184838
TRANSP:OPAQUE
DTEND:20260613T000000
LOCATION:Villa Grunholzer
SUMMARY:Das Klavier als klangliche Revolution
CLASS:PUBLIC
DESCRIPTION:
ORGANIZER:
DTSTAMP:20260421T103112
ATTACH:https://www.hinto.ch/de/events/das-klavier-als-klangliche-revolution-13-06-2026-1930-villa-grunholzer-uster-e2479542-20.html
END:VEVENT
END:VCALENDAR
