BEGIN:VCALENDAR
VERSION:2.0
PRODID:hinto.net
X-PUBLISHED-TTL:P1W
BEGIN:VEVENT
UID:hinto.net-event_show-6383280
DTSTART:20260530T160000
SEQUENCE:0
CREATED:20251025T025257
LAST-MODIFIED:20251025T025257
TRANSP:OPAQUE
DTEND:20260531T000000
LOCATION:Gare de Lion
SUMMARY:Daydance feat. Feine Musik
CLASS:PUBLIC
DESCRIPTION:
ORGANIZER:
DTSTAMP:20260424T062839
ATTACH:https://www.hinto.ch/de/events/daydance-feat-feine-musik-30-05-2026-1600-gare-de-lion-wil-e2390436-20.html
END:VEVENT
END:VCALENDAR
