BEGIN:VCALENDAR
VERSION:2.0
PRODID:hinto.net
X-PUBLISHED-TTL:P1W
BEGIN:VEVENT
UID:hinto.net-event_show-6814803
DTSTART:20260501T100000
SEQUENCE:0
CREATED:20260314T035544
LAST-MODIFIED:20260314T035544
TRANSP:OPAQUE
DTEND:20260501T183000
LOCATION:EINSTOFFEN Brand Store
SUMMARY:Design Your Glasses
CLASS:PUBLIC
DESCRIPTION:
ORGANIZER:
DTSTAMP:20260421T102631
ATTACH:https://www.hinto.ch/de/events/design-your-glasses-01-05-2026-1000-einstoffen-brand-store-st-gallen-e2753029-20.html
END:VEVENT
END:VCALENDAR
