BEGIN:VCALENDAR
VERSION:2.0
PRODID:hinto.net
X-PUBLISHED-TTL:P1W
BEGIN:VEVENT
UID:hinto.net-event_show-6403452
DTSTART:20260513T200000
SEQUENCE:0
CREATED:20251031T194615
LAST-MODIFIED:20251031T194615
TRANSP:OPAQUE

LOCATION:La Cappella
SUMMARY:Die Exfreundinnen fast im Kino
CLASS:PUBLIC
DESCRIPTION:
ORGANIZER:
DTSTAMP:20260424T072130
ATTACH:https://www.hinto.ch/de/events/die-exfreundinnen-fast-im-kino-13-05-2026-2000-la-cappella-bern-e2408275-20.html
END:VEVENT
END:VCALENDAR
