BEGIN:VCALENDAR
VERSION:2.0
PRODID:hinto.net
X-PUBLISHED-TTL:P1W
BEGIN:VEVENT
UID:hinto.net-event_show-6743554
DTSTART:20260607T110000
SEQUENCE:0
CREATED:20260223T103638
LAST-MODIFIED:20260223T103638
TRANSP:OPAQUE
DTEND:20260607T120000
LOCATION:Neue Aula
SUMMARY:Die grosse Pinguin- und Bananenshow
CLASS:PUBLIC
DESCRIPTION:
ORGANIZER:
DTSTAMP:20260421T002046
ATTACH:https://www.hinto.ch/de/events/die-grosse-pinguin-und-bananenshow-07-06-2026-1100-neue-aula-thun-e2702941-20.html
END:VEVENT
END:VCALENDAR
