BEGIN:VCALENDAR
VERSION:2.0
PRODID:hinto.net
X-PUBLISHED-TTL:P1W
BEGIN:VEVENT
UID:hinto.net-event_show-6861182
DTSTART:20260618T200000
SEQUENCE:0
CREATED:20260328T084221
LAST-MODIFIED:20260328T084221
TRANSP:OPAQUE
DTEND:20260618T213000
LOCATION:Museum Fram
SUMMARY:Die Sihl. Retour à la source
CLASS:PUBLIC
DESCRIPTION:
ORGANIZER:
DTSTAMP:20260420T201316
ATTACH:https://www.hinto.ch/de/events/die-sihl-retour-a-la-source-18-06-2026-2000-museum-fram-einsiedeln-e2792087-20.html
END:VEVENT
END:VCALENDAR
