BEGIN:VCALENDAR
VERSION:2.0
PRODID:hinto.net
X-PUBLISHED-TTL:P1W
BEGIN:VEVENT
UID:hinto.net-event_show-6863753
DTSTART:20260419T161500
SEQUENCE:0
CREATED:20260418T065325
LAST-MODIFIED:20260418T065325
TRANSP:OPAQUE
DTEND:20260419T171500
LOCATION:
SUMMARY:DMAX: Ozark Police Patrol - Einsatz im Paradies
CLASS:PUBLIC
DESCRIPTION:
ORGANIZER:
DTSTAMP:20260419T232729
ATTACH:https://www.hinto.ch/de/events/dmax-ozark-police-patrol-einsatz-im-paradies-19-04-2026-1615-e2794369-20.html
END:VEVENT
END:VCALENDAR
