BEGIN:VCALENDAR
VERSION:2.0
PRODID:hinto.net
X-PUBLISHED-TTL:P1W
BEGIN:VEVENT
UID:hinto.net-event_show-6925325
DTSTART:20260424T210000
SEQUENCE:0
CREATED:20260419T052154
LAST-MODIFIED:20260419T052154
TRANSP:OPAQUE

LOCATION:Cafe Bar Mokka
SUMMARY:DUB SPENCER & TRANCE HILL
CLASS:PUBLIC
DESCRIPTION:
ORGANIZER:
DTSTAMP:20260421T025124
ATTACH:https://www.hinto.ch/de/events/dub-spencer-trance-hill-24-04-2026-2100-cafe-bar-mokka-thun-e2847415-20.html
END:VEVENT
END:VCALENDAR
