BEGIN:VCALENDAR
VERSION:2.0
PRODID:hinto.net
X-PUBLISHED-TTL:P1W
BEGIN:VEVENT
UID:hinto.net-event_show-6810312
DTSTART:20260417T200000
SEQUENCE:0
CREATED:20260313T034838
LAST-MODIFIED:20260313T034838
TRANSP:OPAQUE

LOCATION:Mühle Hunziken
SUMMARY:Eliane
CLASS:PUBLIC
DESCRIPTION:
ORGANIZER:
DTSTAMP:20260420T004828
ATTACH:https://www.hinto.ch/de/events/eliane-17-04-2026-2000-muehle-hunziken-rubigen-e2746572-20.html
END:VEVENT
END:VCALENDAR
