BEGIN:VCALENDAR
VERSION:2.0
PRODID:hinto.net
X-PUBLISHED-TTL:P1W
BEGIN:VEVENT
UID:hinto.net-event_show-6292888
DTSTART:20260430T200000
SEQUENCE:0
CREATED:20250927T075942
LAST-MODIFIED:20250927T075942
TRANSP:OPAQUE
DTEND:20260430T212000
LOCATION:Schlachthaus Theater Bern
SUMMARY:Elizabeth – I’m not a Bitch
CLASS:PUBLIC
DESCRIPTION:
ORGANIZER:
DTSTAMP:20260424T140132
ATTACH:https://www.hinto.ch/de/events/elizabeth-n-irm-not-a-bitch-30-04-2026-2000-schlachthaus-theater-bern-bern-e2314241-20.html
END:VEVENT
END:VCALENDAR
