BEGIN:VCALENDAR
VERSION:2.0
PRODID:hinto.net
X-PUBLISHED-TTL:P1W
BEGIN:VEVENT
UID:hinto.net-event_show-6925030
DTSTART:20260608T091500
SEQUENCE:0
CREATED:20260419T051942
LAST-MODIFIED:20260419T051942
TRANSP:OPAQUE
DTEND:20260608T111500
LOCATION:tiRumpel
SUMMARY:ElternCafé
CLASS:PUBLIC
DESCRIPTION:
ORGANIZER:
DTSTAMP:20260420T075141
ATTACH:https://www.hinto.ch/de/events/elterncafe-08-06-2026-0915-tirumpel-st-gallen-e2847261-20.html
END:VEVENT
END:VCALENDAR
