BEGIN:VCALENDAR
VERSION:2.0
PRODID:hinto.net
X-PUBLISHED-TTL:P1W
BEGIN:VEVENT
UID:hinto.net-event_show-6493770
DTSTART:20260718T060000
SEQUENCE:0
CREATED:20251202T044528
LAST-MODIFIED:20251202T044528
TRANSP:OPAQUE
DTEND:20260718T000000
LOCATION:Promulins Arena
SUMMARY:Engadin Ultra Trail
CLASS:PUBLIC
DESCRIPTION:
ORGANIZER:
DTSTAMP:20260424T060935
ATTACH:https://www.hinto.ch/de/events/engadin-ultra-trail-18-07-2026-0600-promulins-arena-samedan-e2487369-20.html
END:VEVENT
END:VCALENDAR
