BEGIN:VCALENDAR
VERSION:2.0
PRODID:hinto.net
X-PUBLISHED-TTL:P1W
BEGIN:VEVENT
UID:hinto.net-event_show-6909670
DTSTART:20260424T100000
SEQUENCE:0
CREATED:20260414T033828
LAST-MODIFIED:20260414T033828
TRANSP:OPAQUE

LOCATION:mudac
SUMMARY:Exposition - Et nous alors?
CLASS:PUBLIC
DESCRIPTION:
ORGANIZER:
DTSTAMP:20260420T204438
ATTACH:https://www.hinto.ch/de/events/exposition-et-nous-alors-24-04-2026-1000-mudac-lausanne-e2834370-20.html
END:VEVENT
END:VCALENDAR
