BEGIN:VCALENDAR
VERSION:2.0
PRODID:hinto.net
X-PUBLISHED-TTL:P1W
BEGIN:VEVENT
UID:hinto.net-event_show-6726367
DTSTART:20260503T100000
SEQUENCE:0
CREATED:20260218T093550
LAST-MODIFIED:20260218T093550
TRANSP:OPAQUE
DTEND:20260503T180000
LOCATION:Legionärspfad Vindonissa
SUMMARY:Familiensonntag
CLASS:PUBLIC
DESCRIPTION:
ORGANIZER:
DTSTAMP:20260421T091410
ATTACH:https://www.hinto.ch/de/events/familiensonntag-03-05-2026-1000-legionaerspfad-vindonissa-windisch-e2689356-20.html
END:VEVENT
END:VCALENDAR
