BEGIN:VCALENDAR
VERSION:2.0
PRODID:hinto.net
X-PUBLISHED-TTL:P1W
BEGIN:VEVENT
UID:hinto.net-event_show-6775779
DTSTART:20260524T140000
SEQUENCE:0
CREATED:20260305T100946
LAST-MODIFIED:20260305T100946
TRANSP:OPAQUE
DTEND:20260524T000000
LOCATION:Parkplatz Spitzwald
SUMMARY:Faszination Greifvogel & Eulen Erlebnis
CLASS:PUBLIC
DESCRIPTION:
ORGANIZER:
DTSTAMP:20260420T204729
ATTACH:https://www.hinto.ch/de/events/faszination-greifvogel-eulen-erlebnis-24-05-2026-1400-parkplatz-spitzwald-allschwil-e2268546-20.html
END:VEVENT
END:VCALENDAR
