BEGIN:VCALENDAR
VERSION:2.0
PRODID:hinto.net
X-PUBLISHED-TTL:P1W
BEGIN:VEVENT
UID:hinto.net-event_show-6493828
DTSTART:20260704T000000
SEQUENCE:0
CREATED:20251202T044533
LAST-MODIFIED:20251202T044533
TRANSP:OPAQUE

LOCATION:Dracula's Ghost Riders Club
SUMMARY:Festival da Jazz
CLASS:PUBLIC
DESCRIPTION:
ORGANIZER:
DTSTAMP:20260424T053657
ATTACH:https://www.hinto.ch/de/events/festival-da-jazz-04-07-2026-0000-draculas-ghost-riders-club-st-moritz-e2487374-20.html
END:VEVENT
END:VCALENDAR
