BEGIN:VCALENDAR
VERSION:2.0
PRODID:hinto.net
X-PUBLISHED-TTL:P1W
BEGIN:VEVENT
UID:hinto.net-event_show-6810329
DTSTART:20260424T200000
SEQUENCE:0
CREATED:20260313T034838
LAST-MODIFIED:20260313T034838
TRANSP:OPAQUE

LOCATION:Mühle Hunziken
SUMMARY:Fischermätteli Hood Gäng
CLASS:PUBLIC
DESCRIPTION:
ORGANIZER:
DTSTAMP:20260424T063135
ATTACH:https://www.hinto.ch/de/events/fischermaetteli-hood-gaeng-24-04-2026-2000-muehle-hunziken-rubigen-e2746582-20.html
END:VEVENT
END:VCALENDAR
