BEGIN:VCALENDAR
VERSION:2.0
PRODID:hinto.net
X-PUBLISHED-TTL:P1W
BEGIN:VEVENT
UID:hinto.net-event_show-6930703
DTSTART:20260424T220000
SEQUENCE:0
CREATED:20260421T031218
LAST-MODIFIED:20260421T031218
TRANSP:OPAQUE

LOCATION:BBC Butterbarcafe
SUMMARY:Friyay all time hits
CLASS:PUBLIC
DESCRIPTION:
ORGANIZER:
DTSTAMP:20260424T215949
ATTACH:https://www.hinto.ch/de/events/friyay-all-time-hits-24-04-2026-2200-bbc-butterbarcafe-gossau-sg-e2852091-20.html
END:VEVENT
END:VCALENDAR
