BEGIN:VCALENDAR
VERSION:2.0
PRODID:hinto.net
X-PUBLISHED-TTL:P1W
BEGIN:VEVENT
UID:hinto.net-event_show-6814907
DTSTART:20260417T200000
SEQUENCE:0
CREATED:20260314T035906
LAST-MODIFIED:20260314T035906
TRANSP:OPAQUE

LOCATION:Z7
SUMMARY:Geoff Tate’s Operation Mindcrime
CLASS:PUBLIC
DESCRIPTION:
ORGANIZER:
DTSTAMP:20260420T004748
ATTACH:https://www.hinto.ch/de/events/geoff-taters-operation-mindcrime-17-04-2026-2000-z7-prattelen-e2753096-20.html
END:VEVENT
END:VCALENDAR
