BEGIN:VCALENDAR
VERSION:2.0
PRODID:hinto.net
X-PUBLISHED-TTL:P1W
BEGIN:VEVENT
UID:hinto.net-event_show-6274889
DTSTART:20261101T110000
SEQUENCE:0
CREATED:20250919T172142
LAST-MODIFIED:20250919T172142
TRANSP:OPAQUE
DTEND:20261101T170000
LOCATION:Museum Burghalde
SUMMARY:Gillian White: Wolken
CLASS:PUBLIC
DESCRIPTION:
ORGANIZER:
DTSTAMP:20260421T072227
ATTACH:https://www.hinto.ch/de/events/gillian-white-wolken-01-11-2026-1100-museum-burghalde-lenzburg-e2299542-20.html
END:VEVENT
END:VCALENDAR
