BEGIN:VCALENDAR
VERSION:2.0
PRODID:hinto.net
X-PUBLISHED-TTL:P1W
BEGIN:VEVENT
UID:hinto.net-event_show-6510608
DTSTART:20260510T160000
SEQUENCE:0
CREATED:20251208T024527
LAST-MODIFIED:20251208T024527
TRANSP:OPAQUE
DTEND:20260510T165000
LOCATION:TAK Theater Liechtenstein
SUMMARY:Ginger
CLASS:PUBLIC
DESCRIPTION:
ORGANIZER:
DTSTAMP:20260420T170359
ATTACH:https://www.hinto.ch/de/events/ginger-10-05-2026-1600-tak-theater-liechtenstein-schaan-e2501564-20.html
END:VEVENT
END:VCALENDAR
