BEGIN:VCALENDAR
VERSION:2.0
PRODID:hinto.net
X-PUBLISHED-TTL:P1W
BEGIN:VEVENT
UID:hinto.net-event_show-6904544
DTSTART:20260424T201500
SEQUENCE:0
CREATED:20260412T054640
LAST-MODIFIED:20260412T054640
TRANSP:OPAQUE
DTEND:20260424T214500
LOCATION:Baradies
SUMMARY:Grosse Geschichten im Kleinen.
CLASS:PUBLIC
DESCRIPTION:
ORGANIZER:
DTSTAMP:20260420T225348
ATTACH:https://www.hinto.ch/de/events/grosse-geschichten-im-kleinen-24-04-2026-2015-baradies-teufen-ar-e2829522-20.html
END:VEVENT
END:VCALENDAR
