BEGIN:VCALENDAR
VERSION:2.0
PRODID:hinto.net
X-PUBLISHED-TTL:P1W
BEGIN:VEVENT
UID:hinto.net-event_show-6639399
DTSTART:20260424T200000
SEQUENCE:0
CREATED:20260120T032855
LAST-MODIFIED:20260120T032855
TRANSP:OPAQUE

LOCATION:Einsiedeln Brühl
SUMMARY:HC Einsiedeln ° - BSV Stans 2
CLASS:PUBLIC
DESCRIPTION:
ORGANIZER:
DTSTAMP:20260420T191658
ATTACH:https://www.hinto.ch/de/events/hc-einsiedeln-d-bsv-stans-2-24-04-2026-2000-einsiedeln-bruehl-einsiedeln-e2533648-20.html
END:VEVENT
END:VCALENDAR
