BEGIN:VCALENDAR
VERSION:2.0
PRODID:hinto.net
X-PUBLISHED-TTL:P1W
BEGIN:VEVENT
UID:hinto.net-event_show-6925343
DTSTART:20260428T180000
SEQUENCE:0
CREATED:20260419T052157
LAST-MODIFIED:20260419T052157
TRANSP:OPAQUE

LOCATION:HiFlow
SUMMARY:Hybridations fertiles
CLASS:PUBLIC
DESCRIPTION:
ORGANIZER:
DTSTAMP:20260420T000436
ATTACH:https://www.hinto.ch/de/events/hybridations-fertiles-28-04-2026-1800-hiflow-plan-les-ouates-e2847424-20.html
END:VEVENT
END:VCALENDAR
