BEGIN:VCALENDAR
VERSION:2.0
PRODID:hinto.net
X-PUBLISHED-TTL:P1W
BEGIN:VEVENT
UID:hinto.net-event_show-6884453
DTSTART:20260506T200000
SEQUENCE:0
CREATED:20260404T234116
LAST-MODIFIED:20260404T234116
TRANSP:OPAQUE
DTEND:20260506T205000
LOCATION:Theater St. Gallen
SUMMARY:I pack min Koffer
CLASS:PUBLIC
DESCRIPTION:
ORGANIZER:
DTSTAMP:20260424T080942
ATTACH:https://www.hinto.ch/de/events/i-pack-min-koffer-06-05-2026-2000-theater-st-gallen-st-gallen-e2811254-20.html
END:VEVENT
END:VCALENDAR
