BEGIN:VCALENDAR
VERSION:2.0
PRODID:hinto.net
X-PUBLISHED-TTL:P1W
BEGIN:VEVENT
UID:hinto.net-event_show-6884510
DTSTART:20260531T170000
SEQUENCE:0
CREATED:20260404T234122
LAST-MODIFIED:20260404T234122
TRANSP:OPAQUE
DTEND:20260531T190000
LOCATION:Tonhalle
SUMMARY:Iki pasimatymo!
CLASS:PUBLIC
DESCRIPTION:
ORGANIZER:
DTSTAMP:20260424T074146
ATTACH:https://www.hinto.ch/de/events/iki-pasimatymo!-31-05-2026-1700-tonhalle-st-gallen-e2811271-20.html
END:VEVENT
END:VCALENDAR
