BEGIN:VCALENDAR
VERSION:2.0
PRODID:hinto.net
X-PUBLISHED-TTL:P1W
BEGIN:VEVENT
UID:hinto.net-event_show-6925197
DTSTART:20260423T200000
SEQUENCE:0
CREATED:20260419T052043
LAST-MODIFIED:20260419T052043
TRANSP:OPAQUE

LOCATION:ONO Das Kulturlokal
SUMMARY:IMPRO-THEATER PLANLOS
CLASS:PUBLIC
DESCRIPTION:
ORGANIZER:
DTSTAMP:20260421T070058
ATTACH:https://www.hinto.ch/de/events/impro-theater-planlos-23-04-2026-2000-ono-das-kulturlokal-bern-e2847333-20.html
END:VEVENT
END:VCALENDAR
