BEGIN:VCALENDAR
VERSION:2.0
PRODID:hinto.net
X-PUBLISHED-TTL:P1W
BEGIN:VEVENT
UID:hinto.net-event_show-6643716
DTSTART:20260101T000000
SEQUENCE:0
CREATED:20260120T155931
LAST-MODIFIED:20260120T155931
TRANSP:OPAQUE
DTEND:20261231T000000
LOCATION:Stadtmuseum Wil
SUMMARY:Inventar. Objekte aus 25 Jahren
CLASS:PUBLIC
DESCRIPTION:
ORGANIZER:
DTSTAMP:20260424T080801
ATTACH:https://www.hinto.ch/de/events/inventar-objekte-aus-25-jahren-01-01-2026-0000-stadtmuseum-wil-wil-sg-e2616559-20.html
END:VEVENT
END:VCALENDAR
