BEGIN:VCALENDAR
VERSION:2.0
PRODID:hinto.net
X-PUBLISHED-TTL:P1W
BEGIN:VEVENT
UID:hinto.net-event_show-6296168
DTSTART:20260623T200000
SEQUENCE:0
CREATED:20250927T075938
LAST-MODIFIED:20250927T075938
TRANSP:OPAQUE
DTEND:20260623T000000
LOCATION:Samsung Hall
SUMMARY:ISMO
CLASS:PUBLIC
DESCRIPTION:
ORGANIZER:
DTSTAMP:20260420T174451
ATTACH:https://www.hinto.ch/de/events/ismo-23-06-2026-2000-samsung-hall-zuerich-e2282814-20.html
END:VEVENT
END:VCALENDAR
