BEGIN:VCALENDAR
VERSION:2.0
PRODID:hinto.net
X-PUBLISHED-TTL:P1W
BEGIN:VEVENT
UID:hinto.net-event_show-6925712
DTSTART:20260424T183000
SEQUENCE:0
CREATED:20260419T052314
LAST-MODIFIED:20260419T052314
TRANSP:OPAQUE

LOCATION:Espace Autour de la Forge
SUMMARY:JEAN-CLAUDE ROH
CLASS:PUBLIC
DESCRIPTION:
ORGANIZER:
DTSTAMP:20260420T151254
ATTACH:https://www.hinto.ch/de/events/jean-claude-roh-24-04-2026-1830-espace-autour-de-la-forge-st-severin-e2847653-20.html
END:VEVENT
END:VCALENDAR
