BEGIN:VCALENDAR
VERSION:2.0
PRODID:hinto.net
X-PUBLISHED-TTL:P1W
BEGIN:VEVENT
UID:hinto.net-event_show-6876721
DTSTART:20260527T193000
SEQUENCE:0
CREATED:20260402T094106
LAST-MODIFIED:20260402T094106
TRANSP:OPAQUE

LOCATION:Theater Neumarkt
SUMMARY:Journal d'un corps
CLASS:PUBLIC
DESCRIPTION:
ORGANIZER:
DTSTAMP:20260421T102820
ATTACH:https://www.hinto.ch/de/events/journal-dun-corps-27-05-2026-1930-theater-neumarkt-zuerich-e2804905-20.html
END:VEVENT
END:VCALENDAR
