BEGIN:VCALENDAR
VERSION:2.0
PRODID:hinto.net
X-PUBLISHED-TTL:P1W
BEGIN:VEVENT
UID:hinto.net-event_show-6862984
DTSTART:20260419T151500
SEQUENCE:0
CREATED:20260329T152018
LAST-MODIFIED:20260329T152018
TRANSP:OPAQUE
DTEND:20260419T160000
LOCATION:
SUMMARY:KiKa: Mumintal
CLASS:PUBLIC
DESCRIPTION:
ORGANIZER:
DTSTAMP:20260420T010131
ATTACH:https://www.hinto.ch/de/events/kika-mumintal-19-04-2026-1515-e2793600-20.html
END:VEVENT
END:VCALENDAR
