BEGIN:VCALENDAR
VERSION:2.0
PRODID:hinto.net
X-PUBLISHED-TTL:P1W
BEGIN:VEVENT
UID:hinto.net-event_show-6924987
DTSTART:20260701T140000
SEQUENCE:0
CREATED:20260419T051940
LAST-MODIFIED:20260419T051940
TRANSP:OPAQUE
DTEND:20260701T170000
LOCATION:tiRumpel
SUMMARY:Kindertreff
CLASS:PUBLIC
DESCRIPTION:
ORGANIZER:
DTSTAMP:20260420T021403
ATTACH:https://www.hinto.ch/de/events/kindertreff-01-07-2026-1400-tirumpel-st-gallen-e2847256-20.html
END:VEVENT
END:VCALENDAR
