BEGIN:VCALENDAR
VERSION:2.0
PRODID:hinto.net
X-PUBLISHED-TTL:P1W
BEGIN:VEVENT
UID:hinto.net-event_show-6924980
DTSTART:20260513T140000
SEQUENCE:0
CREATED:20260419T051940
LAST-MODIFIED:20260419T051940
TRANSP:OPAQUE
DTEND:20260513T170000
LOCATION:tiRumpel
SUMMARY:Kindertreff
CLASS:PUBLIC
DESCRIPTION:
ORGANIZER:
DTSTAMP:20260420T021417
ATTACH:https://www.hinto.ch/de/events/kindertreff-13-05-2026-1400-tirumpel-st-gallen-e2847256-20.html
END:VEVENT
END:VCALENDAR
