BEGIN:VCALENDAR
VERSION:2.0
PRODID:hinto.net
X-PUBLISHED-TTL:P1W
BEGIN:VEVENT
UID:hinto.net-event_show-6770315
DTSTART:20260215T000000
SEQUENCE:0
CREATED:20260304T024626
LAST-MODIFIED:20260304T024626
TRANSP:OPAQUE
DTEND:20260503T000000
LOCATION:Kirchner Museum Davos
SUMMARY:Kirchner.Picasso
CLASS:PUBLIC
DESCRIPTION:
ORGANIZER:
DTSTAMP:20260420T202103
ATTACH:https://www.hinto.ch/de/events/kirchner-picasso-15-02-2026-0000-kirchner-museum-davos-davos-platz-e2726738-20.html
END:VEVENT
END:VCALENDAR
