BEGIN:VCALENDAR
VERSION:2.0
PRODID:hinto.net
X-PUBLISHED-TTL:P1W
BEGIN:VEVENT
UID:hinto.net-event_show-6619660
DTSTART:20260627T171500
SEQUENCE:0
CREATED:20260114T064149
LAST-MODIFIED:20260114T064149
TRANSP:OPAQUE
DTEND:20260627T183000
LOCATION:Kloster Einsiedeln
SUMMARY:Klang der Stille IV
CLASS:PUBLIC
DESCRIPTION:
ORGANIZER:
DTSTAMP:20260420T191534
ATTACH:https://www.hinto.ch/de/events/klang-der-stille-iv-27-06-2026-1715-kloster-einsiedeln-einsiedeln-e2598606-20.html
END:VEVENT
END:VCALENDAR
