BEGIN:VCALENDAR
VERSION:2.0
PRODID:hinto.net
X-PUBLISHED-TTL:P1W
BEGIN:VEVENT
UID:hinto.net-event_show-6921852
DTSTART:20260422T190000
SEQUENCE:0
CREATED:20260417T071631
LAST-MODIFIED:20260417T071631
TRANSP:OPAQUE
DTEND:20260422T230000
LOCATION:Hagenhaus
SUMMARY:Klavier IV
CLASS:PUBLIC
DESCRIPTION:
ORGANIZER:
DTSTAMP:20260420T215926
ATTACH:https://www.hinto.ch/de/events/klavier-iv-22-04-2026-1900-hagenhaus-nendeln-e2844631-20.html
END:VEVENT
END:VCALENDAR
