BEGIN:VCALENDAR
VERSION:2.0
PRODID:hinto.net
X-PUBLISHED-TTL:P1W
BEGIN:VEVENT
UID:hinto.net-event_show-6921859
DTSTART:20260603T190000
SEQUENCE:0
CREATED:20260417T071633
LAST-MODIFIED:20260417T071633
TRANSP:OPAQUE
DTEND:20260603T230000
LOCATION:Hagenhaus
SUMMARY:Klavier V
CLASS:PUBLIC
DESCRIPTION:
ORGANIZER:
DTSTAMP:20260420T233855
ATTACH:https://www.hinto.ch/de/events/klavier-v-03-06-2026-1900-hagenhaus-nendeln-e2844638-20.html
END:VEVENT
END:VCALENDAR
