BEGIN:VCALENDAR
VERSION:2.0
PRODID:hinto.net
X-PUBLISHED-TTL:P1W
BEGIN:VEVENT
UID:hinto.net-event_show-6743149
DTSTART:20261015T200000
SEQUENCE:0
CREATED:20260222T200649
LAST-MODIFIED:20260222T200649
TRANSP:OPAQUE

LOCATION:Kula
SUMMARY:Konstanz singt!
CLASS:PUBLIC
DESCRIPTION:
ORGANIZER:
DTSTAMP:20260419T181017
ATTACH:https://www.hinto.ch/de/events/konstanz-singt!-15-10-2026-2000-kula-konstanz-e2702767-20.html
END:VEVENT
END:VCALENDAR
